BEGIN:VCALENDAR
VERSION:2.0
PRODID:-//Ramsey County Historical Society - ECPv6.15.17.1//NONSGML v1.0//EN
CALSCALE:GREGORIAN
METHOD:PUBLISH
X-WR-CALNAME:Ramsey County Historical Society
X-ORIGINAL-URL:https://rchs.com
X-WR-CALDESC:Events for Ramsey County Historical Society
REFRESH-INTERVAL;VALUE=DURATION:PT1H
X-Robots-Tag:noindex
X-PUBLISHED-TTL:PT1H
BEGIN:VTIMEZONE
TZID:America/Chicago
BEGIN:DAYLIGHT
TZOFFSETFROM:-0600
TZOFFSETTO:-0500
TZNAME:CDT
DTSTART:20220313T080000
END:DAYLIGHT
BEGIN:STANDARD
TZOFFSETFROM:-0500
TZOFFSETTO:-0600
TZNAME:CST
DTSTART:20221106T070000
END:STANDARD
BEGIN:DAYLIGHT
TZOFFSETFROM:-0600
TZOFFSETTO:-0500
TZNAME:CDT
DTSTART:20230312T080000
END:DAYLIGHT
BEGIN:STANDARD
TZOFFSETFROM:-0500
TZOFFSETTO:-0600
TZNAME:CST
DTSTART:20231105T070000
END:STANDARD
BEGIN:DAYLIGHT
TZOFFSETFROM:-0600
TZOFFSETTO:-0500
TZNAME:CDT
DTSTART:20240310T080000
END:DAYLIGHT
BEGIN:STANDARD
TZOFFSETFROM:-0500
TZOFFSETTO:-0600
TZNAME:CST
DTSTART:20241103T070000
END:STANDARD
END:VTIMEZONE
BEGIN:VEVENT
DTSTART;TZID=America/Chicago:20230922T100000
DTEND;TZID=America/Chicago:20230922T120000
DTSTAMP:20260425T192834
CREATED:20230112T212857Z
LAST-MODIFIED:20230315T154047Z
UID:10008941-1695376800-1695384000@rchs.com
SUMMARY:Volunteer: Friday Orchard Chores
DESCRIPTION:Help us tackle our to-do list! No experience is necessary to help us complete seasonal orchard tasks. Gibbs Farm Heritage orchard has over 30 varieties of heirloom and UMN developed apples. In order to keep our crop safe from insects without using harsh chemical pesticides we use more time intensive methods like apple bagging\, sticky traps\, fencing and organic treatments. \nProjects are great for students\, families\, small groups (scouts\, 4-H ect.) and individuals. Children under 12 should sign up with an adult. \nClick Here to Register for Friday Farm Chores \nProjects will be lead by Gibbs Farm staff and volunteers and all supplies materials and instructions. \n  \nDay of Instructions: \n  \nVolunteers should park in the Gibbs Farm public parking lot of Cleveland Ave and enter the site through the wooden gates. \nPlease wear close-toed shoes and clothes you can work in. Light snacks are provided\, but feel free to bring your own. \nThere are bathrooms and a drinking fountain with water bottle filler on site.
URL:https://rchs.com/event/volunteer-friday-farm-orchard-chores/
LOCATION:Gibbs Farm\, 2097 W Larpenteur Ave\, Saint Paul \, MN\, 55113\, United States
CATEGORIES:Gibbs Events,Gibbs Volunteer
ATTACH;FMTTYPE=image/jpeg:https://rchs.com/wp-content/uploads/2022/08/orchard.jpg
GEO:44.992279;-93.188545
X-APPLE-STRUCTURED-LOCATION;VALUE=URI;X-ADDRESS=Gibbs Farm 2097 W Larpenteur Ave Saint Paul  MN 55113 United States;X-APPLE-RADIUS=500;X-TITLE=2097 W Larpenteur Ave:geo:-93.188545,44.992279
END:VEVENT
BEGIN:VEVENT
DTSTART;TZID=America/Chicago:20230908T100000
DTEND;TZID=America/Chicago:20230908T120000
DTSTAMP:20260425T192834
CREATED:20230315T151106Z
LAST-MODIFIED:20230315T155203Z
UID:10008940-1694167200-1694174400@rchs.com
SUMMARY:Volunteer: Friday Farm Chores
DESCRIPTION:Help us tackle our to-do list. Friday Farm Chore volunteer days are happening though out our season\, the outdoor projects change weekly usually planting\, watering\, weeding\, light landscape and orchard projects. \nClick here to register for Friday Farm Chores \nProjects are great for students\, families\, small groups (scouts\, 4-H ect.) and individuals. Children under 12 should sign up with an adult. \n  \nNo experience necessary! Projects will be lead by Gibbs Farm staff and volunteers and all supplies materials and instructions. \n  \nDay of Instructions: \n  \nVolunteers should park in the Gibbs Farm public parking lot of Cleveland Ave and enter the site through the wooden gates. \nPlease wear close-toed shoes and clothes you can work in. Light snacks are provided\, but feel free to bring your own. \nThere are bathrooms and a drinking fountain with water bottle filler on site.
URL:https://rchs.com/event/volunteer-friday-farm-chores-2/2023-09-08/
LOCATION:Gibbs Farm\, 2097 W Larpenteur Ave\, Saint Paul \, MN\, 55113\, United States
CATEGORIES:Gibbs Events,Gibbs Volunteer
ATTACH;FMTTYPE=image/jpeg:https://rchs.com/wp-content/uploads/2018/07/volunteercollage.jpeg
GEO:44.992279;-93.188545
X-APPLE-STRUCTURED-LOCATION;VALUE=URI;X-ADDRESS=Gibbs Farm 2097 W Larpenteur Ave Saint Paul  MN 55113 United States;X-APPLE-RADIUS=500;X-TITLE=2097 W Larpenteur Ave:geo:-93.188545,44.992279
END:VEVENT
BEGIN:VEVENT
DTSTART;TZID=America/Chicago:20230831T173000
DTEND;TZID=America/Chicago:20230831T190000
DTSTAMP:20260425T192834
CREATED:20230801T202440Z
LAST-MODIFIED:20230815T160753Z
UID:10009012-1693503000-1693508400@rchs.com
SUMMARY:Date Change! Volunteer + Craft: Wattle Fence
DESCRIPTION:This new series of events combines crafting and volunteering! We are focusing on historic crafts and gardening skills. Learn something new\, help us out and take home part of the project. \nWattle Fence– Try your hand at this historic craft! We will be using brush and branches cleared from the site (Aspen\, mulberry and buckthorn) to enclose our small crop garden. Learn the basic techniques and then build your own hurdle (moveable fence panel) or trellis! \nWe will use hammers\, mallets\, small nails and pruning shears and clippers. No experience necessary\, this project is suitable for 12+ with an adult. \nRegister Here!\n 
URL:https://rchs.com/event/volunteer-craft-wattle-fence/
LOCATION:Gibbs Farm\, 2097 W Larpenteur Ave\, Saint Paul \, MN\, 55113\, United States
CATEGORIES:Gibbs Events,Gibbs Volunteer,Hands-On/Craft Event
ATTACH;FMTTYPE=image/png:https://rchs.com/wp-content/uploads/2023/08/NEW-DATE-Volunteer-Craft-Wattle-Fence-2.png
GEO:44.992279;-93.188545
X-APPLE-STRUCTURED-LOCATION;VALUE=URI;X-ADDRESS=Gibbs Farm 2097 W Larpenteur Ave Saint Paul  MN 55113 United States;X-APPLE-RADIUS=500;X-TITLE=2097 W Larpenteur Ave:geo:-93.188545,44.992279
END:VEVENT
BEGIN:VEVENT
DTSTART;TZID=America/Chicago:20230811T100000
DTEND;TZID=America/Chicago:20230811T120000
DTSTAMP:20260425T192834
CREATED:20230112T213943Z
LAST-MODIFIED:20230315T155257Z
UID:10008939-1691748000-1691755200@rchs.com
SUMMARY:Volunteer: Friday Farm Chores
DESCRIPTION:Help us tackle our to-do list. Friday Farm Chore volunteer days are happening though out our season\, the outdoor projects change weekly usually planting\, watering\, weeding\, light landscape and orchard projects. \n  \nProjects are great for students\, families\, small groups (scouts\, 4-H ect.) and individuals. Children under 12 should sign up with an adult. \n  \nNo experience necessary! Projects will be lead by Gibbs Farm staff and volunteers and all supplies materials and instructions. \nGibbs Farm will be open to the public after this event\, volunteers are encouraged to stay\, take a tour or visit with the animals at no admission charge. \nDay of Instructions: \n  \nVolunteers should park in the Gibbs Farm public parking lot of Cleveland Ave and enter the site through the wooden gates. \nPlease wear close-toed shoes and clothes you can work in. Light snacks are provided\, but feel free to bring your own. \nThere are bathrooms and a drinking fountain with water bottle filler on site.
URL:https://rchs.com/event/volunteer-friday-farm-chores/
LOCATION:Gibbs Farm\, 2097 W Larpenteur Ave\, Saint Paul \, MN\, 55113\, United States
CATEGORIES:Gibbs Events,Gibbs Volunteer
ATTACH;FMTTYPE=image/jpeg:https://rchs.com/wp-content/uploads/2018/07/volunteercollage.jpeg
GEO:44.992279;-93.188545
X-APPLE-STRUCTURED-LOCATION;VALUE=URI;X-ADDRESS=Gibbs Farm 2097 W Larpenteur Ave Saint Paul  MN 55113 United States;X-APPLE-RADIUS=500;X-TITLE=2097 W Larpenteur Ave:geo:-93.188545,44.992279
END:VEVENT
BEGIN:VEVENT
DTSTART;TZID=America/Chicago:20230728T100000
DTEND;TZID=America/Chicago:20230728T120000
DTSTAMP:20260425T192834
CREATED:20230315T153239Z
LAST-MODIFIED:20230315T154949Z
UID:10008938-1690538400-1690545600@rchs.com
SUMMARY:Volunteer: Friday Farm Chores
DESCRIPTION:Help us tackle our to-do list. Friday Farm Chore volunteer days are happening though out our season\, the outdoor projects change weekly usually planting\, watering\, weeding\, light landscape and orchard projects. \nClick Here to Register for Friday Farm Chores \nProjects are great for students\, families\, small groups (scouts\, 4-H ect.) and individuals. Children under 12 should sign up with an adult. \n  \nNo experience necessary! Projects will be lead by Gibbs Farm staff and volunteers and all supplies materials and instructions. \nGibbs Farm will be open to the public after this event\, volunteers are encouraged to stay\, take a tour or visit with the animals at no admission charge. \nDay of Instructions: \n  \nVolunteers should park in the Gibbs Farm public parking lot of Cleveland Ave and enter the site through the wooden gates. \nPlease wear close-toed shoes and clothes you can work in. Light snacks are provided\, but feel free to bring your own. \nThere are bathrooms and a drinking fountain with water bottle filler on site.
URL:https://rchs.com/event/volunteer-friday-farm-chores-4/
LOCATION:Gibbs Farm\, 2097 W Larpenteur Ave\, Saint Paul \, MN\, 55113\, United States
CATEGORIES:Gibbs Events,Gibbs Volunteer
ATTACH;FMTTYPE=image/jpeg:https://rchs.com/wp-content/uploads/2022/07/IMG_9710.jpg
GEO:44.992279;-93.188545
X-APPLE-STRUCTURED-LOCATION;VALUE=URI;X-ADDRESS=Gibbs Farm 2097 W Larpenteur Ave Saint Paul  MN 55113 United States;X-APPLE-RADIUS=500;X-TITLE=2097 W Larpenteur Ave:geo:-93.188545,44.992279
END:VEVENT
BEGIN:VEVENT
DTSTART;TZID=America/Chicago:20230714T100000
DTEND;TZID=America/Chicago:20230714T120000
DTSTAMP:20260425T192834
CREATED:20230315T152125Z
LAST-MODIFIED:20230315T155002Z
UID:10008937-1689328800-1689336000@rchs.com
SUMMARY:Volunteer: Friday Farm Chores
DESCRIPTION:Help us tackle our to-do list. Friday Farm Chore volunteer days are happening though out our season\, the outdoor projects change weekly usually planting\, watering\, weeding\, light landscape and orchard projects. \nClick Here to Register for Friday Farm Chores \nProjects are great for students\, families\, small groups (scouts\, 4-H ect.) and individuals. Children under 12 should sign up with an adult. \n  \nNo experience necessary! Projects will be lead by Gibbs Farm staff and volunteers and all supplies materials and instructions. \nGibbs Farm will be open to the public after this event\, volunteers are encouraged to stay\, take a tour or visit with the animals at no admission charge. \nDay of Instructions: \n  \nVolunteers should park in the Gibbs Farm public parking lot of Cleveland Ave and enter the site through the wooden gates. \nPlease wear close-toed shoes and clothes you can work in. Light snacks are provided\, but feel free to bring your own. \nThere are bathrooms and a drinking fountain with water bottle filler on site.
URL:https://rchs.com/event/volunteer-friday-farm-chores-3/
LOCATION:Gibbs Farm\, 2097 W Larpenteur Ave\, Saint Paul \, MN\, 55113\, United States
CATEGORIES:Gibbs Events,Gibbs Volunteer
ATTACH;FMTTYPE=image/jpeg:https://rchs.com/wp-content/uploads/2022/07/IMG_2489L.jpg
GEO:44.992279;-93.188545
X-APPLE-STRUCTURED-LOCATION;VALUE=URI;X-ADDRESS=Gibbs Farm 2097 W Larpenteur Ave Saint Paul  MN 55113 United States;X-APPLE-RADIUS=500;X-TITLE=2097 W Larpenteur Ave:geo:-93.188545,44.992279
END:VEVENT
BEGIN:VEVENT
DTSTART;TZID=America/Chicago:20230616T100000
DTEND;TZID=America/Chicago:20230616T120000
DTSTAMP:20260425T192834
CREATED:20230112T212714Z
LAST-MODIFIED:20230315T155030Z
UID:10008936-1686909600-1686916800@rchs.com
SUMMARY:Volunteer: Friday Orchard Chores
DESCRIPTION:Help us tackle our to-do list! No experience is necessary to help us complete seasonal orchard tasks. Gibbs Farm Heritage orchard has over 30 varieties of heirloom and UMN developed apples. In order to keep our crop safe from insects without using harsh chemical pesticides we use more time intensive methods like apple bagging\, sticky traps\, fencing and organic treatments. \nProjects are great for students\, families\, small groups (scouts\, 4-H ect.) and individuals. Children under 12 should sign up with an adult. \nClick Here to Register for Friday Farm Chores \nProjects will be lead by Gibbs Farm staff and volunteers and all supplies materials and instructions. \nGibbs Farm will be open to the public after this event\, volunteers are encouraged to stay\, take a tour or visit with the animals at no admission charge. \nDay of Instructions: \n  \nVolunteers should park in the Gibbs Farm public parking lot of Cleveland Ave and enter the site through the wooden gates. \nPlease wear close-toed shoes and clothes you can work in. Light snacks are provided\, but feel free to bring your own. \nThere are bathrooms and a drinking fountain with water bottle filler on site.
URL:https://rchs.com/event/volunteer-friday-orchard-chores/
LOCATION:Gibbs Farm\, 2097 W Larpenteur Ave\, Saint Paul \, MN\, 55113\, United States
CATEGORIES:Gibbs Events,Gibbs Volunteer
ATTACH;FMTTYPE=image/jpeg:https://rchs.com/wp-content/uploads/2022/08/orchard.jpg
GEO:44.992279;-93.188545
X-APPLE-STRUCTURED-LOCATION;VALUE=URI;X-ADDRESS=Gibbs Farm 2097 W Larpenteur Ave Saint Paul  MN 55113 United States;X-APPLE-RADIUS=500;X-TITLE=2097 W Larpenteur Ave:geo:-93.188545,44.992279
END:VEVENT
BEGIN:VEVENT
DTSTART;TZID=America/Chicago:20230602T100000
DTEND;TZID=America/Chicago:20230602T120000
DTSTAMP:20260425T192834
CREATED:20230315T151106Z
LAST-MODIFIED:20230315T155203Z
UID:10008935-1685700000-1685707200@rchs.com
SUMMARY:Volunteer: Friday Farm Chores
DESCRIPTION:Help us tackle our to-do list. Friday Farm Chore volunteer days are happening though out our season\, the outdoor projects change weekly usually planting\, watering\, weeding\, light landscape and orchard projects. \nClick here to register for Friday Farm Chores \nProjects are great for students\, families\, small groups (scouts\, 4-H ect.) and individuals. Children under 12 should sign up with an adult. \n  \nNo experience necessary! Projects will be lead by Gibbs Farm staff and volunteers and all supplies materials and instructions. \n  \nDay of Instructions: \n  \nVolunteers should park in the Gibbs Farm public parking lot of Cleveland Ave and enter the site through the wooden gates. \nPlease wear close-toed shoes and clothes you can work in. Light snacks are provided\, but feel free to bring your own. \nThere are bathrooms and a drinking fountain with water bottle filler on site.
URL:https://rchs.com/event/volunteer-friday-farm-chores-2/2023-06-02/
LOCATION:Gibbs Farm\, 2097 W Larpenteur Ave\, Saint Paul \, MN\, 55113\, United States
CATEGORIES:Gibbs Events,Gibbs Volunteer
ATTACH;FMTTYPE=image/jpeg:https://rchs.com/wp-content/uploads/2018/07/volunteercollage.jpeg
GEO:44.992279;-93.188545
X-APPLE-STRUCTURED-LOCATION;VALUE=URI;X-ADDRESS=Gibbs Farm 2097 W Larpenteur Ave Saint Paul  MN 55113 United States;X-APPLE-RADIUS=500;X-TITLE=2097 W Larpenteur Ave:geo:-93.188545,44.992279
END:VEVENT
BEGIN:VEVENT
DTSTART;TZID=America/Chicago:20230519T100000
DTEND;TZID=America/Chicago:20230519T120000
DTSTAMP:20260425T192834
CREATED:20230315T152926Z
LAST-MODIFIED:20230315T155046Z
UID:10008934-1684490400-1684497600@rchs.com
SUMMARY:Volunteer: Friday Orchard Chores
DESCRIPTION:Help us tackle our to-do list! No experience is necessary to help us complete seasonal orchard tasks. Gibbs Farm Heritage orchard has over 30 varieties of heirloom and UMN developed apples. In order to keep our crop safe from insects without using harsh chemical pesticides we use more time intensive methods like apple bagging\, sticky traps\, fencing and organic treatments. \nProjects are great for students\, families\, small groups (scouts\, 4-H ect.) and individuals. Children under 12 should sign up with an adult. \nClick Here to Register for Friday Farm Chores \nProjects will be lead by Gibbs Farm staff and volunteers and all supplies materials and instructions. \n  \nDay of Instructions: \n  \nVolunteers should park in the Gibbs Farm public parking lot of Cleveland Ave and enter the site through the wooden gates. \nPlease wear close-toed shoes and clothes you can work in. Light snacks are provided\, but feel free to bring your own. \nThere are bathrooms and a drinking fountain with water bottle filler on site.
URL:https://rchs.com/event/volunteer-friday-orchard-chores-2/
LOCATION:Gibbs Farm\, 2097 W Larpenteur Ave\, Saint Paul \, MN\, 55113\, United States
CATEGORIES:Gibbs Events,Gibbs Volunteer
ATTACH;FMTTYPE=image/jpeg:https://rchs.com/wp-content/uploads/2023/03/Apple-Orchard-002-scaled.jpg
GEO:44.992279;-93.188545
X-APPLE-STRUCTURED-LOCATION;VALUE=URI;X-ADDRESS=Gibbs Farm 2097 W Larpenteur Ave Saint Paul  MN 55113 United States;X-APPLE-RADIUS=500;X-TITLE=2097 W Larpenteur Ave:geo:-93.188545,44.992279
END:VEVENT
BEGIN:VEVENT
DTSTART;TZID=America/Chicago:20230505T100000
DTEND;TZID=America/Chicago:20230505T120000
DTSTAMP:20260425T192834
CREATED:20230315T151106Z
LAST-MODIFIED:20230315T155203Z
UID:10008933-1683280800-1683288000@rchs.com
SUMMARY:Volunteer: Friday Farm Chores
DESCRIPTION:Help us tackle our to-do list. Friday Farm Chore volunteer days are happening though out our season\, the outdoor projects change weekly usually planting\, watering\, weeding\, light landscape and orchard projects. \nClick here to register for Friday Farm Chores \nProjects are great for students\, families\, small groups (scouts\, 4-H ect.) and individuals. Children under 12 should sign up with an adult. \n  \nNo experience necessary! Projects will be lead by Gibbs Farm staff and volunteers and all supplies materials and instructions. \n  \nDay of Instructions: \n  \nVolunteers should park in the Gibbs Farm public parking lot of Cleveland Ave and enter the site through the wooden gates. \nPlease wear close-toed shoes and clothes you can work in. Light snacks are provided\, but feel free to bring your own. \nThere are bathrooms and a drinking fountain with water bottle filler on site.
URL:https://rchs.com/event/volunteer-friday-farm-chores-2/2023-05-05/
LOCATION:Gibbs Farm\, 2097 W Larpenteur Ave\, Saint Paul \, MN\, 55113\, United States
CATEGORIES:Gibbs Events,Gibbs Volunteer
ATTACH;FMTTYPE=image/jpeg:https://rchs.com/wp-content/uploads/2018/07/volunteercollage.jpeg
GEO:44.992279;-93.188545
X-APPLE-STRUCTURED-LOCATION;VALUE=URI;X-ADDRESS=Gibbs Farm 2097 W Larpenteur Ave Saint Paul  MN 55113 United States;X-APPLE-RADIUS=500;X-TITLE=2097 W Larpenteur Ave:geo:-93.188545,44.992279
END:VEVENT
BEGIN:VEVENT
DTSTART;TZID=America/Chicago:20230421T100000
DTEND;TZID=America/Chicago:20230421T120000
DTSTAMP:20260425T192834
CREATED:20230315T151106Z
LAST-MODIFIED:20230315T155203Z
UID:10008932-1682071200-1682078400@rchs.com
SUMMARY:Volunteer: Friday Farm Chores
DESCRIPTION:Help us tackle our to-do list. Friday Farm Chore volunteer days are happening though out our season\, the outdoor projects change weekly usually planting\, watering\, weeding\, light landscape and orchard projects. \nClick here to register for Friday Farm Chores \nProjects are great for students\, families\, small groups (scouts\, 4-H ect.) and individuals. Children under 12 should sign up with an adult. \n  \nNo experience necessary! Projects will be lead by Gibbs Farm staff and volunteers and all supplies materials and instructions. \n  \nDay of Instructions: \n  \nVolunteers should park in the Gibbs Farm public parking lot of Cleveland Ave and enter the site through the wooden gates. \nPlease wear close-toed shoes and clothes you can work in. Light snacks are provided\, but feel free to bring your own. \nThere are bathrooms and a drinking fountain with water bottle filler on site.
URL:https://rchs.com/event/volunteer-friday-farm-chores-2/2023-04-21/
LOCATION:Gibbs Farm\, 2097 W Larpenteur Ave\, Saint Paul \, MN\, 55113\, United States
CATEGORIES:Gibbs Events,Gibbs Volunteer
ATTACH;FMTTYPE=image/jpeg:https://rchs.com/wp-content/uploads/2018/07/volunteercollage.jpeg
GEO:44.992279;-93.188545
X-APPLE-STRUCTURED-LOCATION;VALUE=URI;X-ADDRESS=Gibbs Farm 2097 W Larpenteur Ave Saint Paul  MN 55113 United States;X-APPLE-RADIUS=500;X-TITLE=2097 W Larpenteur Ave:geo:-93.188545,44.992279
END:VEVENT
END:VCALENDAR