BEGIN:VCALENDAR
VERSION:2.0
PRODID:-//Ramsey County Historical Society - ECPv6.15.17.1//NONSGML v1.0//EN
CALSCALE:GREGORIAN
METHOD:PUBLISH
X-ORIGINAL-URL:https://rchs.com
X-WR-CALDESC:Events for Ramsey County Historical Society
REFRESH-INTERVAL;VALUE=DURATION:PT1H
X-Robots-Tag:noindex
X-PUBLISHED-TTL:PT1H
BEGIN:VTIMEZONE
TZID:America/Chicago
BEGIN:DAYLIGHT
TZOFFSETFROM:-0600
TZOFFSETTO:-0500
TZNAME:CDT
DTSTART:20230312T080000
END:DAYLIGHT
BEGIN:STANDARD
TZOFFSETFROM:-0500
TZOFFSETTO:-0600
TZNAME:CST
DTSTART:20231105T070000
END:STANDARD
BEGIN:DAYLIGHT
TZOFFSETFROM:-0600
TZOFFSETTO:-0500
TZNAME:CDT
DTSTART:20240310T080000
END:DAYLIGHT
BEGIN:STANDARD
TZOFFSETFROM:-0500
TZOFFSETTO:-0600
TZNAME:CST
DTSTART:20241103T070000
END:STANDARD
BEGIN:DAYLIGHT
TZOFFSETFROM:-0600
TZOFFSETTO:-0500
TZNAME:CDT
DTSTART:20250309T080000
END:DAYLIGHT
BEGIN:STANDARD
TZOFFSETFROM:-0500
TZOFFSETTO:-0600
TZNAME:CST
DTSTART:20251102T070000
END:STANDARD
BEGIN:DAYLIGHT
TZOFFSETFROM:-0600
TZOFFSETTO:-0500
TZNAME:CDT
DTSTART:20260308T080000
END:DAYLIGHT
BEGIN:STANDARD
TZOFFSETFROM:-0500
TZOFFSETTO:-0600
TZNAME:CST
DTSTART:20261101T070000
END:STANDARD
BEGIN:DAYLIGHT
TZOFFSETFROM:-0600
TZOFFSETTO:-0500
TZNAME:CDT
DTSTART:20270314T080000
END:DAYLIGHT
BEGIN:STANDARD
TZOFFSETFROM:-0500
TZOFFSETTO:-0600
TZNAME:CST
DTSTART:20271107T070000
END:STANDARD
END:VTIMEZONE
BEGIN:VEVENT
DTSTART;TZID=America/Chicago:20260401T173000
DTEND;TZID=America/Chicago:20260401T200000
DTSTAMP:20260420T232936
CREATED:20260107T185944Z
LAST-MODIFIED:20260107T204448Z
UID:10009359-1775064600-1775073600@rchs.com
SUMMARY:RCHS Member Event - Preserving Our Past Workshop
DESCRIPTION:Ramsey County Historical Society Member Event – Preserving Our Past Workshop\nMetro Square\, 121 7th Pl E\, St Paul\, MN 55101\nWednesday\, April 1\, 2026 \n5:30 PM-8:00 PM \n$65\, Dinner provided \nTICKETS \nFamily heirlooms carry stories\, memories\, and connections across generations—but without proper care\, even the most treasured items can fade\, crack\, or deteriorate over time. This hands-on workshop offers practical guidance on how to preserve and protect meaningful objects passed down through your family.  \nParticipants will learn best practices for caring for common heirlooms such as photographs\, documents\, textiles\, books\, and small keepsakes from RCHS’ Director of Collections and Exhibits\, Mollie Spillman. Topics include safe handling\, basic cleaning\, proper storage\, environmental risks\, and when to seek professional conservation help. The workshop also addresses common myths about preservation and shares simple\, affordable steps you can take at home. \nWhether you’re safeguarding a box of old photos\, a handwritten letter\, or a cherished family object\, this workshop will help you extend the life of your heirlooms so their stories can continue to be shared for generations to come. No prior experience is necessary\, and all are welcome. \nDinner will be provided\, and guests are invited to bring one item in for evaluation. Guests will be allowed to tour the RCHS collections at Metro Square after the event. \nAn intake form will be emailed out to attendees once registered. \nMollie Spillman – Since joining Ramsey County Historical Society in 1994\, Mollie Spillman has been responsible for managing the Society’s collection. She has a B.S. degree in history from Ball State University and an M.A. degree in historical administration from Eastern Illinois University and. She has held posts as a corporate collections manager/archivist in Illinois\, and as a senior intern at Henry Ford Museum in Greenfield Village\, Michigan. She has also served on the boards of the Twin Cities Archives Round Table\, the North Star Museum for Boy Scouts and Girl Scouts\, and the Nettle Creek Valley Museum.
URL:https://rchs.com/event/rchs-member-event-preserving-our-past-workshop/
CATEGORIES:RCHS Members,Special Events
ATTACH;FMTTYPE=image/jpeg:https://rchs.com/wp-content/uploads/2026/01/RCHS-Member-Event-Preserving-Our-Past.jpg
END:VEVENT
BEGIN:VEVENT
DTSTART;TZID=America/Chicago:20250906T170000
DTEND;TZID=America/Chicago:20250906T193000
DTSTAMP:20260420T232936
CREATED:20250606T153728Z
LAST-MODIFIED:20250904T160519Z
UID:10009317-1757178000-1757187000@rchs.com
SUMMARY:Sold Out - 2025 Farm-to-Table Dinner - RCHS Members Event
DESCRIPTION:This event is sold out. \nRamsey County Historical Society Members Event\nFarm-to-Table Dinner at Gibbs Farm\n\n2097 Larpenteur Ave W\, Falcon Heights\, MN 55113\nSaturday\, September 6\, 2025\n5:00 PM – 7:30 PM \n$100 per person \nRegister Here\n  \nCatered by Chef Weston Smith and Chef Catherine Olsen of Local Effort \nMusic from Chris Koza \nRamsey County Historical Society members get a taste of the farm as we bid adieu to summer. A delicious three course dinner is provided by Chef Weston Smith and Chef Catherine Olsen with courses dedicated to a harvest directly from the Gibbs Farm garden. \nGuests will be able to enjoy a happy hour with complimentary wine and beer in the courtyard with music provided by Chris Koza\, followed by a staff-guided tour of Gibbs Farm. \nNot an RCHS member? Join today! \n \nLocal Effort\nBased in Roseville\, Local Effort is led by chef team Weston Smith and Catherine Olsen. They cook for small events with a special focus on locally grown and produced ingredients\, especially from Minnesota or Wisconsin. \nWeston makes beautiful sourdough breads\, pizza\, bean-to-bar chocolate\, and memorable meats like duck mortadella. He’s especially interested in nutrition and well sourced ingredients in home cooking. Catherine is a Minneapolis native and a local restaurant veteran. She makes fresh handmade pastas and beautiful cakes and pastry\, and has a gift for thoughtful\, sincere hospitality. Local Effort makes American food with midwestern ingredients\, combining restaurant techniques with a home cook’s sensibility.
URL:https://rchs.com/event/2025-farm-to-table-dinner-rchs-members-event/
CATEGORIES:Dinners on the Farm,Gibbs Events,RCHS Members
ATTACH;FMTTYPE=image/jpeg:https://rchs.com/wp-content/uploads/2025/06/Farm-to-Table-Dinner-Postcard.jpg
END:VEVENT
BEGIN:VEVENT
DTSTART;TZID=America/Chicago:20250509T173000
DTEND;TZID=America/Chicago:20250509T183000
DTSTAMP:20260420T232936
CREATED:20250205T222614Z
LAST-MODIFIED:20250410T220035Z
UID:10009257-1746811800-1746815400@rchs.com
SUMMARY:RCHS Members Event - Happy Hour in the Apple Orchard
DESCRIPTION:Ramsey County Historical Society Members Event\nHappy Hour in the Apple Orchard\nGibbs Farm\, 2097 West Larpenteur Avenue\, St. Paul\, MN 55113 \nMay 9th\, 2025 \n5:30 PM-6:30 PM \nTickets $30 \nRegister Here\n  \nJoin us in a welcoming of spring and a fruitful season in the apple orchard at Gibbs Farm. \nYou will be treated to a special cocktail created for this event and/or wine and beer. N/A drinks will also be available along with light snacks. \nMusic provided by Sarah Morris. \nIf event is canceled due to inclement weather\, guests will receive a refund for ticket price. \nSarah Morris\nSarah Morris has a habit of missing the forest. From the day the Minneapolis based singer-songwriter picked up a guitar\, armed with the bone-deep memory of her parents’ well-loved record collection and rooted in the storytelling fire of a Mary Chapin Carpenter tune\, she’s been too busy crafting love letters to the details of the trees. Sarah’s endearingly honest\, expertly penned songs encourage audiences to pull away from the big picture and get caught up in the magic of our everyday minutia\, the rainy day ache in her sunlit voice granting us permission to escape into stories at once hauntingly familiar and uniquely her own.
URL:https://rchs.com/event/rchs-members-event-happy-hour-in-the-apple-orchard/
LOCATION:Gibbs Farm\, 2097 W Larpenteur Ave\, Saint Paul \, MN\, 55113\, United States
CATEGORIES:RCHS Members
ATTACH;FMTTYPE=image/jpeg:https://rchs.com/wp-content/uploads/2025/02/Happy-Hour-in-Apple-Orchard.jpg
GEO:44.992279;-93.188545
X-APPLE-STRUCTURED-LOCATION;VALUE=URI;X-ADDRESS=Gibbs Farm 2097 W Larpenteur Ave Saint Paul  MN 55113 United States;X-APPLE-RADIUS=500;X-TITLE=2097 W Larpenteur Ave:geo:-93.188545,44.992279
END:VEVENT
BEGIN:VEVENT
DTSTART;TZID=America/Chicago:20250402T180000
DTEND;TZID=America/Chicago:20250402T200000
DTSTAMP:20260420T232936
CREATED:20250124T013334Z
LAST-MODIFIED:20250319T151351Z
UID:10009252-1743616800-1743624000@rchs.com
SUMMARY:RCHS Members Event - Genealogy Tracing
DESCRIPTION:THIS EVENT HAS BEEN RESCHEDULED TO APRIL 2\, 2025\, 6:00 PM-8:00 PM.\nRCHS Members Event – Genealogy Tracing\nPresented by Ramsey County Historical Society\n6:00 PM -8:00 PM\nCost: $50\nRegister Here\nAre you stuck on a family history research challenge? Join professional genealogist Mica L. Anders for an interactive workshop designed to help you break through your genealogy research roadblocks. \nWorkshop Highlights: \n\nLive research strategy demonstrations\nPractical techniques for navigating genealogical challenges\nTargeted tips for moving your research forward\nIndividualized consultation time\n\nWhat to Bring: \n\n1-2 specific genealogy research challenges\nExisting research documents and family stories\n\nWhat to Expect: \n\nExpert guidance on select research mysteries\nInsights into potential next research steps\nCollaborative learning environment\n\nImportant Note: While we may not fully solve every research challenge\, you’ll gain strategies to continue investigating your family history independently. \nWorkshop Details: \n\nDuration: 2 hours\nLocation: Landmark Center Research Center
URL:https://rchs.com/event/rchs-members-event-genealogy-tracing/
LOCATION:Landmark Center\, 75 W Fifth Street \, Saint Paul\, MN\, 55102\, United States
CATEGORIES:RCHS Members
ATTACH;FMTTYPE=image/jpeg:https://rchs.com/wp-content/uploads/2025/01/Genealogy-Tracing-Event-Graphic-2025.jpg
ORGANIZER;CN="Ramsey County Historical Society":MAILTO:info@rchs.com
GEO:44.945308;-93.097105
X-APPLE-STRUCTURED-LOCATION;VALUE=URI;X-ADDRESS=Landmark Center 75 W Fifth Street  Saint Paul MN 55102 United States;X-APPLE-RADIUS=500;X-TITLE=75 W Fifth Street:geo:-93.097105,44.945308
END:VEVENT
BEGIN:VEVENT
DTSTART;TZID=America/Chicago:20240915T173000
DTEND;TZID=America/Chicago:20240915T200000
DTSTAMP:20260420T232936
CREATED:20240820T151027Z
LAST-MODIFIED:20240820T151058Z
UID:10009207-1726421400-1726430400@rchs.com
SUMMARY:Farm-to-Table Dinner - RCHS Members Event
DESCRIPTION:Ramsey County Historical Society Members Event\nFarm-to-Table Dinner at Gibbs Farm\n\n2097 Larpenteur Ave W\, Falcon Heights\, MN 55113\nSunday\, September 15\, 2024\n5:30 PM – 8:00 PM \n$100 per person \nRegister Here\n\nCatered by Chef Natalie Allesee of Rowan & Dough \nMusic from Chris Koza \nRamsey County Historical Society members get a taste of the farm as we bid adieu to summer. A delicious three course dinner is provided by\nChef Natalie Allesee (The Lynhall\, Heartland) with one course dedicated to tomatoes directly from the Gibbs Farm garden. \nGuests will be able to enjoy a happy hour with complimentary wine and beer in the courtyard with music provided by Chris Koza\, followed by a staff-guided tour of Gibbs Farm. \nNot an RCHS member? Join today! \nMenu\nFirst Course: Tomato Crostata\, Arugula Salad\, Red Onion\, N’duja\, Summer Squash Agrodolce\, Borage \nEntree: Braised Short Rib\, Mushroom Triangoli\, Red Pepper Butter\, Carrot Top Romesco\, Corn\, Marigold \nDessert: Ricotta & Honey Basque Cheesecake\, Poached Peaches\, Cardamom Crumble\, Hyssop \nVegetarian Entree: Mushroom Triangoli\, Red Pepper Butter\, Carrot Top Romesco\, Corn\, Marigold \nGibbs Farm is located at: 2097 Larpenteur Ave W\, Falcon Heights\, MN 55113 \nParking is free in our lot off Cleveland Avenue. Enter Gibbs Farm through the small white building just south of the parking lot.
URL:https://rchs.com/event/farm-to-table-dinner-rchs-members-event/
CATEGORIES:Dinners on the Farm,Gibbs Events,RCHS Members
ATTACH;FMTTYPE=image/jpeg:https://rchs.com/wp-content/uploads/2024/08/RCHS-Farm-to-Table-2024.jpg
END:VEVENT
END:VCALENDAR