BEGIN:VCALENDAR
VERSION:2.0
PRODID:-//Ramsey County Historical Society - ECPv6.15.17.1//NONSGML v1.0//EN
CALSCALE:GREGORIAN
METHOD:PUBLISH
X-ORIGINAL-URL:https://rchs.com
X-WR-CALDESC:Events for Ramsey County Historical Society
REFRESH-INTERVAL;VALUE=DURATION:PT1H
X-Robots-Tag:noindex
X-PUBLISHED-TTL:PT1H
BEGIN:VTIMEZONE
TZID:America/Chicago
BEGIN:DAYLIGHT
TZOFFSETFROM:-0600
TZOFFSETTO:-0500
TZNAME:CDT
DTSTART:20250309T080000
END:DAYLIGHT
BEGIN:STANDARD
TZOFFSETFROM:-0500
TZOFFSETTO:-0600
TZNAME:CST
DTSTART:20251102T070000
END:STANDARD
BEGIN:DAYLIGHT
TZOFFSETFROM:-0600
TZOFFSETTO:-0500
TZNAME:CDT
DTSTART:20260308T080000
END:DAYLIGHT
BEGIN:STANDARD
TZOFFSETFROM:-0500
TZOFFSETTO:-0600
TZNAME:CST
DTSTART:20261101T070000
END:STANDARD
BEGIN:DAYLIGHT
TZOFFSETFROM:-0600
TZOFFSETTO:-0500
TZNAME:CDT
DTSTART:20270314T080000
END:DAYLIGHT
BEGIN:STANDARD
TZOFFSETFROM:-0500
TZOFFSETTO:-0600
TZNAME:CST
DTSTART:20271107T070000
END:STANDARD
END:VTIMEZONE
BEGIN:VEVENT
DTSTART;TZID=America/Chicago:20260726T170000
DTEND;TZID=America/Chicago:20260726T193000
DTSTAMP:20260420T214750
CREATED:20260226T181116Z
LAST-MODIFIED:20260227T173844Z
UID:10009452-1785085200-1785094200@rchs.com
SUMMARY:2026 Farm-to-Table Dinner
DESCRIPTION:Ramsey County Historical Society presents \n2026 Farm-to-Table Dinner at Gibbs Farm\n\n2097 Larpenteur Ave W\, Falcon Heights\, MN 55113\nSaturday\, July 25\, 2026\n5:00 PM – 7:30 PM \n$120 per person \nRegister Here\n\nCatered by Chef Weston Smith and Chef Catherine Olsen of Local Effort\nMusic from Chris Koza\nRamsey County Historical Society members are invited to savor the season at its peak as we gather to celebrate summer in unforgettable fashion. Set against the rustic beauty of Gibbs Farm\, this special evening celebrates the harvest with a thoughtfully crafted three-course dinner by Chef Weston Smith and Chef Catherine Olsen—each course inspired by and sourced directly from local gardens. \nBegin the night in the courtyard with a relaxed happy hour featuring complimentary wine and beer\, accompanied by live music from Chris Koza. As the sun lingers a little longer and the gardens glow with late-summer abundance\, you’ll enjoy an experience that brings together history\, community\, and the flavors of the farm in perfect harmony. \nLocal Effort\nBased in Roseville\, Local Effort is led by chef team Weston Smith and Catherine Olsen. They cook for small events with a special focus on locally grown and produced ingredients\, especially from Minnesota or Wisconsin. \nWeston makes beautiful sourdough breads\, pizza\, bean-to-bar chocolate\, and memorable meats like duck mortadella. He’s especially interested in nutrition and well sourced ingredients in home cooking. Catherine is a Minneapolis native and a local restaurant veteran. She makes fresh handmade pastas and beautiful cakes and pastry\, and has a gift for thoughtful\, sincere hospitality. Local Effort makes American food with midwestern ingredients\, combining restaurant techniques with a home cook’s sensibility. \nChris Koza\nChris Koza is a composer and performer based in Denver\, Colorado and Minneapolis\, Minnesota. Both solo and with his band Rogue Valley\, he has supported and shared the stage with artists such as Brandi Carlile\, Gordon Lightfoot\, Ingrid Michaelson\, The Jayhawks\, Neko Case\, Kathleen Edwards\, Dan Wilson\, and Stephen Kellogg\, among others. His music appears regularly on ABC’s General Hospital\, 60 Minutes\, and Good Morning America\, and his song\, “Be Wild\,” was featured in a State of Minnesota tourism campaign. His song (Rogue Valley)\, “The Wolves and the Ravens\,” was featured in Ben Stiller’s film The Secret Life of Walter Mitty. Chris often performs solo with an acoustic guitar but also performs as a duo\, trio\, and 4-or-5 piece band. \nIn his writing\, Chris both honors and builds on the vast genre of Americana music. For every song that sounds like it could be strummed from a boxcar clacking slowly across a grassy midwestern plain\, there’s a tune sailing from a city rooftop\, echoing across a valley of streets and traffic\, or a melody twisting and shimmering like a dim frequency deep into the starry night.
URL:https://rchs.com/event/2026-farm-to-table-dinner/
CATEGORIES:Dinners on the Farm,Gibbs Events,RCHS Members
ATTACH;FMTTYPE=image/png:https://rchs.com/wp-content/uploads/2026/02/Farm-to-Table-Dinner-Postcard-7-x-5-in.png
END:VEVENT
END:VCALENDAR