BEGIN:VCALENDAR
VERSION:2.0
PRODID:-//Ramsey County Historical Society - ECPv6.15.17.1//NONSGML v1.0//EN
CALSCALE:GREGORIAN
METHOD:PUBLISH
X-WR-CALNAME:Ramsey County Historical Society
X-ORIGINAL-URL:https://rchs.com
X-WR-CALDESC:Events for Ramsey County Historical Society
REFRESH-INTERVAL;VALUE=DURATION:PT1H
X-Robots-Tag:noindex
X-PUBLISHED-TTL:PT1H
BEGIN:VTIMEZONE
TZID:America/Chicago
BEGIN:DAYLIGHT
TZOFFSETFROM:-0600
TZOFFSETTO:-0500
TZNAME:CDT
DTSTART:20250309T080000
END:DAYLIGHT
BEGIN:STANDARD
TZOFFSETFROM:-0500
TZOFFSETTO:-0600
TZNAME:CST
DTSTART:20251102T070000
END:STANDARD
BEGIN:DAYLIGHT
TZOFFSETFROM:-0600
TZOFFSETTO:-0500
TZNAME:CDT
DTSTART:20260308T080000
END:DAYLIGHT
BEGIN:STANDARD
TZOFFSETFROM:-0500
TZOFFSETTO:-0600
TZNAME:CST
DTSTART:20261101T070000
END:STANDARD
BEGIN:DAYLIGHT
TZOFFSETFROM:-0600
TZOFFSETTO:-0500
TZNAME:CDT
DTSTART:20270314T080000
END:DAYLIGHT
BEGIN:STANDARD
TZOFFSETFROM:-0500
TZOFFSETTO:-0600
TZNAME:CST
DTSTART:20271107T070000
END:STANDARD
END:VTIMEZONE
BEGIN:VEVENT
DTSTART;TZID=America/Chicago:20261014T130000
DTEND;TZID=America/Chicago:20261014T150000
DTSTAMP:20260422T063026
CREATED:20260324T155124Z
LAST-MODIFIED:20260324T214236Z
UID:10009459-1791982800-1791990000@rchs.com
SUMMARY:History Revealed – Oakland Cemetery - North
DESCRIPTION:History Revealed – Oakland Cemetery Walking Tours – North\nPresented by Ramsey County Historical Society \nOakland Cemetery\, 927 Jackson Street\, St. Paul\, MN 55117\nWednesday\, October 14\, 2026 \n1:00 PM-3:00 PM \n$10 \n\nRegister Here \n\nRamsey County Historical Society is hosting two walking tours of the historic Oakland Cemetery in St. Paul’s North End neighborhood. The tours will each focus on a different area of the cemetery\, with October 14 covering the North End and October 21 covering the South End. \nMore info on South Tour on October 21\, 2026. \nJoin experienced tour guide and historian Denise Dunnell Wells on a fascinating outdoor walking tour of Saint Paul’s famous Oakland Cemetery. The tour will feature the resting places of some of Saint Paul’s most famous and infamous personalities. Denise will give you an overview of the cemetery’s history\, discuss some of its legends\, and show us the final resting places of these citizens. \nNORTH TOUR 10/14/2026:\n\nTour is outside only – please wear walking shoes and dress for the weather.\nThere are some hills on the tour and prepare to be on your feet for up to two hours.\nThere are no restrooms in the cemetery.\nOakland Cemetery is located at 927 Jackson Street\, Saint Paul.\nPlease do not park in the parking lot or in front of the office.  It is fine to park along the roads in the cemetery\, just make sure that traffic can get by.\nWe will meet outside of the office.\n\nAbout Oakland Cemetery: \nOakland Cemetery is the Midwest’s oldest operating cemetery and has been a place of internment for many different groups in the Ramsey County community. There are lots for Civil War and Spanish-American War veterans\, firefighters\, and a variety of nationalities. The cemetery has a park-like quality with over 25\,000 trees and many walking paths. In its current era\, the cemetery has become a final resting area for many members of the Hmong community\, which has put our current landscape in conversation with the pioneers who made this area what it is.
URL:https://rchs.com/event/history-revealed-oakland-cemetery-north-3/
LOCATION:Oakland Cemetery\, 927 Jackson Street\, Saint Paul \, MN\, United States
CATEGORIES:History Revealed,Tours
ATTACH;FMTTYPE=image/jpeg:https://rchs.com/wp-content/uploads/2026/03/Oakland-Cemetery-North-2026.jpg
ORGANIZER;CN="Ramsey County Historical Society":MAILTO:info@rchs.com
GEO:44.9689974;-93.0968635
X-APPLE-STRUCTURED-LOCATION;VALUE=URI;X-ADDRESS=Oakland Cemetery 927 Jackson Street Saint Paul  MN United States;X-APPLE-RADIUS=500;X-TITLE=927 Jackson Street:geo:-93.0968635,44.9689974
END:VEVENT
BEGIN:VEVENT
DTSTART;TZID=America/Chicago:20261021T130000
DTEND;TZID=America/Chicago:20261021T150000
DTSTAMP:20260422T063026
CREATED:20260324T162204Z
LAST-MODIFIED:20260324T214131Z
UID:10009460-1792587600-1792594800@rchs.com
SUMMARY:History Revealed – Oakland Cemetery - South
DESCRIPTION:History Revealed – Oakland Cemetery Walking Tours – South\nPresented by Ramsey County Historical Society \nOakland Cemetery\, 927 Jackson Street\, St. Paul\, MN 55117\nWednesday\, October 21\, 2026 \n1:00 PM-3:00 PM \n$10 \n\nRegister Here \n\nRamsey County Historical Society is hosting two walking tours of the historic Oakland Cemetery in St. Paul’s North End neighborhood. The tours will each focus on a different area of the cemetery\, with October 14 covering the North End and October 21 covering the South End. \nMore info on the North Tour on October 14\, 2026. \nJoin experienced tour guide and historian Denise Dunnell Wells on a fascinating outdoor walking tour of Saint Paul’s famous Oakland Cemetery. The tour will feature the resting places of some of Saint Paul’s most famous and infamous personalities. Denise will give you an overview of the cemetery’s history\, discuss some of its legends\, and show us the final resting places of these citizens. \nSOUTH TOUR 10/21/2026:\n\nTour is outside only – please wear walking shoes and dress for the weather.\nPlease be prepared to be on your feet for 90 minutes.\nThere are no restrooms in the cemetery.\nOakland Cemetery is located at 927 Jackson Street\, Saint Paul.\nWe will meet at the chapel\, which is located closer to the corner of Sycamore and Jackson street\nPlease park along the roads by the Chapel\, just make sure that traffic can get by.\n\n\nAbout Oakland Cemetery: \nOakland Cemetery is the Midwest’s oldest operating cemetery and has been a place of internment for many different groups in the Ramsey County community. There are lots for Civil War and Spanish-American War veterans\, firefighters\, and a variety of nationalities. The cemetery has a park-like quality with over 25\,000 trees and many walking paths. In its current era\, the cemetery has become a final resting area for many members of the Hmong community\, which has put our current landscape in conversation with the pioneers who made this area what it is.
URL:https://rchs.com/event/history-revealed-oakland-cemetery-south-3/
LOCATION:Oakland Cemetery\, 927 Jackson Street\, Saint Paul \, MN\, United States
CATEGORIES:History Revealed,Tours
ATTACH;FMTTYPE=image/jpeg:https://rchs.com/wp-content/uploads/2026/03/Oakland-Cemetery-South-2026.jpg
ORGANIZER;CN="Ramsey County Historical Society":MAILTO:info@rchs.com
GEO:44.9689974;-93.0968635
X-APPLE-STRUCTURED-LOCATION;VALUE=URI;X-ADDRESS=Oakland Cemetery 927 Jackson Street Saint Paul  MN United States;X-APPLE-RADIUS=500;X-TITLE=927 Jackson Street:geo:-93.0968635,44.9689974
END:VEVENT
END:VCALENDAR