BEGIN:VCALENDAR
VERSION:2.0
PRODID:-//Ramsey County Historical Society - ECPv6.15.17.1//NONSGML v1.0//EN
CALSCALE:GREGORIAN
METHOD:PUBLISH
X-WR-CALNAME:Ramsey County Historical Society
X-ORIGINAL-URL:https://rchs.com
X-WR-CALDESC:Events for Ramsey County Historical Society
REFRESH-INTERVAL;VALUE=DURATION:PT1H
X-Robots-Tag:noindex
X-PUBLISHED-TTL:PT1H
BEGIN:VTIMEZONE
TZID:America/Chicago
BEGIN:DAYLIGHT
TZOFFSETFROM:-0600
TZOFFSETTO:-0500
TZNAME:CDT
DTSTART:20210314T080000
END:DAYLIGHT
BEGIN:STANDARD
TZOFFSETFROM:-0500
TZOFFSETTO:-0600
TZNAME:CST
DTSTART:20211107T070000
END:STANDARD
BEGIN:DAYLIGHT
TZOFFSETFROM:-0600
TZOFFSETTO:-0500
TZNAME:CDT
DTSTART:20220313T080000
END:DAYLIGHT
BEGIN:STANDARD
TZOFFSETFROM:-0500
TZOFFSETTO:-0600
TZNAME:CST
DTSTART:20221106T070000
END:STANDARD
BEGIN:DAYLIGHT
TZOFFSETFROM:-0600
TZOFFSETTO:-0500
TZNAME:CDT
DTSTART:20230312T080000
END:DAYLIGHT
BEGIN:STANDARD
TZOFFSETFROM:-0500
TZOFFSETTO:-0600
TZNAME:CST
DTSTART:20231105T070000
END:STANDARD
END:VTIMEZONE
BEGIN:VEVENT
DTSTART;TZID=America/Chicago:20221011T171500
DTEND;TZID=America/Chicago:20221011T203000
DTSTAMP:20260419T191447
CREATED:20220719T211215Z
LAST-MODIFIED:20221003T212341Z
UID:10008890-1665508500-1665520200@rchs.com
SUMMARY:Gala For Gibbs
DESCRIPTION:Ramsey County Historical Society invites you to join us for the\nGala for Gibbs\nTuesday\, October 11\, 2022\, 5:15-8:30 pm\nJoin RCHS at Dove Hill to help children experience Gibbs Farm! \nGALA FOR GIBBS \nDove Hill\n260 Summit Ave\, Saint Paul MN 55102\nParking at the Cathedral of Saint Paul lot on Selby Ave.\nSchedule\n5:15: Social Hour\n6:00: Heavy hors d’oeuvres\, hosted bar\, silent auction\n7:00: Program featuring historian and author Larry Millett \nCocktail Attire\nMasks are welcomed and encouraged. \nTickets $150.00 per person\nRegistration and Silent Auction bidding site:  \nGALA FOR GIBBS \nPlease register by Tuesday\, September 27\, 2022.\nOr call 651-222-0701 ext. 226\nemail: events@rchs.com\nPlease contact us with questions. \n\n\n\n\nGala for Gibbs is a fundraising event to support the fun\, hands-on\, and one-of-a-kind educational programs Gibbs Farm provides to more than 15\,000 students in our community each year. \nGala for Gibbs will take place at Dove Hill\, a beautiful historic home in Saint Paul’s Cathedral Hill district\, on Tuesday\, October 11\, 2022. The event will benefit Gibbs Farm and includes a live auction\, silent auction and fund-a-need. Historian and author Larry Millett is the featured speaker along with a testimonial from a teacher on the positive impact that visits to Gibbs Farm has on students. \nProceeds from the Gala for Gibbs will help keep Gibbs Farm programming accessible and affordable for the children in our community. \nGibbs Farm is currently the only organization in Minnesota offering field trips that focus on the dual interpretation of pioneer and Indigenous life-ways.
URL:https://rchs.com/event/gala-for-gibbs/
LOCATION:Dove Hill\, 260 Summit Ave.\, Saint Paul\, MN\, 55102\, United States
CATEGORIES:Gibbs Events
ATTACH;FMTTYPE=image/jpeg:https://rchs.com/wp-content/uploads/2022/07/DoveHillA-e1664832211478.jpg
ORGANIZER;CN="Ramsey County Historical Society":MAILTO:info@rchs.com
END:VEVENT
END:VCALENDAR