BEGIN:VCALENDAR
VERSION:2.0
PRODID:-//Ramsey County Historical Society - ECPv6.15.17.1//NONSGML v1.0//EN
CALSCALE:GREGORIAN
METHOD:PUBLISH
X-WR-CALNAME:Ramsey County Historical Society
X-ORIGINAL-URL:https://rchs.com
X-WR-CALDESC:Events for Ramsey County Historical Society
REFRESH-INTERVAL;VALUE=DURATION:PT1H
X-Robots-Tag:noindex
X-PUBLISHED-TTL:PT1H
BEGIN:VTIMEZONE
TZID:America/Chicago
BEGIN:DAYLIGHT
TZOFFSETFROM:-0600
TZOFFSETTO:-0500
TZNAME:CDT
DTSTART:20190310T080000
END:DAYLIGHT
BEGIN:STANDARD
TZOFFSETFROM:-0500
TZOFFSETTO:-0600
TZNAME:CST
DTSTART:20191103T070000
END:STANDARD
BEGIN:DAYLIGHT
TZOFFSETFROM:-0600
TZOFFSETTO:-0500
TZNAME:CDT
DTSTART:20200308T080000
END:DAYLIGHT
BEGIN:STANDARD
TZOFFSETFROM:-0500
TZOFFSETTO:-0600
TZNAME:CST
DTSTART:20201101T070000
END:STANDARD
BEGIN:DAYLIGHT
TZOFFSETFROM:-0600
TZOFFSETTO:-0500
TZNAME:CDT
DTSTART:20210314T080000
END:DAYLIGHT
BEGIN:STANDARD
TZOFFSETFROM:-0500
TZOFFSETTO:-0600
TZNAME:CST
DTSTART:20211107T070000
END:STANDARD
END:VTIMEZONE
BEGIN:VEVENT
DTSTART;TZID=America/Chicago:20200709T190000
DTEND;TZID=America/Chicago:20200709T200000
DTSTAMP:20260423T071435
CREATED:20200615T153453Z
LAST-MODIFIED:20200615T153453Z
UID:10008747-1594321200-1594324800@rchs.com
SUMMARY:History Revealed: Exploring the Historical Roots of Racism in Minnesota
DESCRIPTION:History Revealed: Exploring the Historical Roots of Racism in Minnesota\nA conversation with Bill Green\, Christopher Lehman\, and Marty Case\nModerated by Peter Rachleff\n \nThursday\, July 9\, 2020\, 7:00 pm\nFacebook Event \nPremiere on Facebook (https://www.facebook.com/EastSideFreedomLibrary/videos/904936243330741/)\, YouTube (https://youtu.be/OK64iOMWcQg). \nIn the past year\, local historians have published three eye-opening books\, each of which\, grounded in careful research\, explore the roles played by racism in the development of Minnesota. Marty Case’s The Relentless Business of Treaties explores how the U.S.\, territorial\, and state governments\, and their leaders\, stole land from the indigenous people who had lived here for centuries. Chris Lehman’s Slavery’s Reach reveals the power and influence exerted by wealthy southern slaveholders in the early years of the “North Star State\,” and the cooperation extended to them by the state’s founders. Bill Green’s Children of Lincoln tracks the journeys away from abolition and racial equality trod by the new state’s leaders in the immediate post-Civil War years. \nThese three historians undertook their research and wrote their books independently of each other. Each of them has spoken about his book at ESFL. Now\, we are able to bring them together for a conversation about the connections and implications of their conclusions. Given the heightened concern over racism being expressed in our communities\, this is a timely conversation for them—and for us—to have. Please join us. \nClick “Going” and share on Facebook!
URL:https://rchs.com/event/history-revealed-exploring-the-historical-roots-of-racism-in-minnesota/
LOCATION:Online Event -ESFL\, MN\, United States
CATEGORIES:History Revealed,Online Event
ATTACH;FMTTYPE=image/jpeg:https://rchs.com/wp-content/uploads/2020/06/Panel_CaseGreenLehman_Web.jpg
ORGANIZER;CN="Ramsey County Historical Society":MAILTO:info@rchs.com
END:VEVENT
END:VCALENDAR