BEGIN:VCALENDAR
VERSION:2.0
PRODID:-//Ramsey County Historical Society - ECPv6.15.17.1//NONSGML v1.0//EN
CALSCALE:GREGORIAN
METHOD:PUBLISH
X-WR-CALNAME:Ramsey County Historical Society
X-ORIGINAL-URL:https://rchs.com
X-WR-CALDESC:Events for Ramsey County Historical Society
REFRESH-INTERVAL;VALUE=DURATION:PT1H
X-Robots-Tag:noindex
X-PUBLISHED-TTL:PT1H
BEGIN:VTIMEZONE
TZID:America/Chicago
BEGIN:DAYLIGHT
TZOFFSETFROM:-0600
TZOFFSETTO:-0500
TZNAME:CDT
DTSTART:20240310T080000
END:DAYLIGHT
BEGIN:STANDARD
TZOFFSETFROM:-0500
TZOFFSETTO:-0600
TZNAME:CST
DTSTART:20241103T070000
END:STANDARD
BEGIN:DAYLIGHT
TZOFFSETFROM:-0600
TZOFFSETTO:-0500
TZNAME:CDT
DTSTART:20250309T080000
END:DAYLIGHT
BEGIN:STANDARD
TZOFFSETFROM:-0500
TZOFFSETTO:-0600
TZNAME:CST
DTSTART:20251102T070000
END:STANDARD
BEGIN:DAYLIGHT
TZOFFSETFROM:-0600
TZOFFSETTO:-0500
TZNAME:CDT
DTSTART:20260308T080000
END:DAYLIGHT
BEGIN:STANDARD
TZOFFSETFROM:-0500
TZOFFSETTO:-0600
TZNAME:CST
DTSTART:20261101T070000
END:STANDARD
END:VTIMEZONE
BEGIN:VEVENT
DTSTART;TZID=America/Chicago:20251007T173000
DTEND;TZID=America/Chicago:20251007T203000
DTSTAMP:20260423T035508
CREATED:20250609T185356Z
LAST-MODIFIED:20250929T143315Z
UID:10009320-1759858200-1759869000@rchs.com
SUMMARY:2025 Pathways Gala
DESCRIPTION:Hey batter\, batter! Hey batter\, batter! Swing!\nRegistration has closed for this event.\nWe’re excited to bring you the details of this year’s Pathways Gala which will be held October 7\, 2025 at the Securian Club at CHS Field\, home of the Saint Paul Saints! Ramsey County’s iconic baseball team is the inspiration for this surprise-filled night of fun and fundraising. \nTickets are on sale now and include a special history-themed program\, admission to the on-site City of Baseball Museum\, hors d’oeuvres and a plated dinner\, free valet parking\, and opportunities to bid in our live and silent auctions. \nIn addition\, the VIP ticket option includes an exclusive behind-the-scenes tour of the stadium and a chance to leave your mark on Saint Paul’s baseball history. \nFor those interested in sharing the Pathways Gala experience with friends\, we’re offering you the opportunity to reserve a table! These ticket packages are available for groups of eight at the regular or VIP level. VIP tables will include complimentary bottles of wine. \nWe can’t wait to see you at CHS Field on October 7! \nMenu\nHors d’oeuvres\nLocal greens salad\nSeasonal vegetables\nArtisan rolls\nChoice of entree:\n**Beef (boneless short ribs\, pan roasted mushrooms\, Cabernet sauce\, and chef choice potatoes)\n**Chicken (chicken breast\, wild rice blend\, smoked cheese\, and sherry volute)\n**Vegetarian (penne pasta\, spinach\, roasted tomato\, artichokes\, kalamata olives\, and feta cheese)\nAssorted desserts \nSponsored by\n \n&
URL:https://rchs.com/event/2025-pathways-gala/
LOCATION:Saint Paul Saints Stadium – CHS Field\, 360 Broadway\, Saint Paul \, MN\, 55101\, United States
CATEGORIES:Pathways Gala
ATTACH;FMTTYPE=image/jpeg:https://rchs.com/wp-content/uploads/2025/06/Gala-Invitation-Front-V2.jpg
GEO:44.9500693;-93.084979
X-APPLE-STRUCTURED-LOCATION;VALUE=URI;X-ADDRESS=Saint Paul Saints Stadium – CHS Field 360 Broadway Saint Paul  MN 55101 United States;X-APPLE-RADIUS=500;X-TITLE=360 Broadway:geo:-93.084979,44.9500693
END:VEVENT
END:VCALENDAR